BEGIN:VCALENDAR
VERSION:2.0
PRODID:-//Piedmont Master Gardeners - ECPv6.15.20//NONSGML v1.0//EN
CALSCALE:GREGORIAN
METHOD:PUBLISH
X-ORIGINAL-URL:https://www.piedmontmastergardeners.org
X-WR-CALDESC:Events for Piedmont Master Gardeners
REFRESH-INTERVAL;VALUE=DURATION:PT1H
X-Robots-Tag:noindex
X-PUBLISHED-TTL:PT1H
BEGIN:VTIMEZONE
TZID:America/New_York
BEGIN:DAYLIGHT
TZOFFSETFROM:-0500
TZOFFSETTO:-0400
TZNAME:EDT
DTSTART:20240310T070000
END:DAYLIGHT
BEGIN:STANDARD
TZOFFSETFROM:-0400
TZOFFSETTO:-0500
TZNAME:EST
DTSTART:20241103T060000
END:STANDARD
BEGIN:DAYLIGHT
TZOFFSETFROM:-0500
TZOFFSETTO:-0400
TZNAME:EDT
DTSTART:20250309T070000
END:DAYLIGHT
BEGIN:STANDARD
TZOFFSETFROM:-0400
TZOFFSETTO:-0500
TZNAME:EST
DTSTART:20251102T060000
END:STANDARD
BEGIN:DAYLIGHT
TZOFFSETFROM:-0500
TZOFFSETTO:-0400
TZNAME:EDT
DTSTART:20260308T070000
END:DAYLIGHT
BEGIN:STANDARD
TZOFFSETFROM:-0400
TZOFFSETTO:-0500
TZNAME:EST
DTSTART:20261101T060000
END:STANDARD
END:VTIMEZONE
BEGIN:VEVENT
DTSTART;TZID=America/New_York:20250902T100000
DTEND;TZID=America/New_York:20250902T110000
DTSTAMP:20260425T081947
CREATED:20250724T223354Z
LAST-MODIFIED:20251016T115302Z
UID:46882-1756807200-1756810800@www.piedmontmastergardeners.org
SUMMARY:Join Us Online: Learn How You Can Become an Extension Master Gardener
DESCRIPTION:Are you passionate about gardening? Would you enjoy sharing your passion with others? Then consider becoming an Extension Master Gardener. This online information session will tell you how to take part in the 2026 training class for Master Gardeners serving the Charlottesville and Albemarle County area. Don’t miss this opportunity to learn how you can deepen your expertise in gardening and share it with the community in fun and rewarding ways. \nRegister HERE to receive the Zoom link. \n 
URL:https://www.piedmontmastergardeners.org/event/join-us-online-learn-how-you-can-become-an-extension-master-gardener/
LOCATION:
ATTACH;FMTTYPE=image/jpeg:https://www.piedmontmastergardeners.org/wp-content/uploads/2025/07/2024_09_14_Partners_Bread-and-Roses_web.jpg
ORGANIZER;CN="Virginia Cooperative Extension":MAILTO:albemarlevcehelpdesk@gmail.com
END:VEVENT
END:VCALENDAR