BEGIN:VCALENDAR
VERSION:2.0
PRODID:-//Piedmont Master Gardeners - ECPv6.15.20//NONSGML v1.0//EN
CALSCALE:GREGORIAN
METHOD:PUBLISH
X-ORIGINAL-URL:https://www.piedmontmastergardeners.org
X-WR-CALDESC:Events for Piedmont Master Gardeners
REFRESH-INTERVAL;VALUE=DURATION:PT1H
X-Robots-Tag:noindex
X-PUBLISHED-TTL:PT1H
BEGIN:VTIMEZONE
TZID:America/New_York
BEGIN:DAYLIGHT
TZOFFSETFROM:-0500
TZOFFSETTO:-0400
TZNAME:EDT
DTSTART:20240310T070000
END:DAYLIGHT
BEGIN:STANDARD
TZOFFSETFROM:-0400
TZOFFSETTO:-0500
TZNAME:EST
DTSTART:20241103T060000
END:STANDARD
BEGIN:DAYLIGHT
TZOFFSETFROM:-0500
TZOFFSETTO:-0400
TZNAME:EDT
DTSTART:20250309T070000
END:DAYLIGHT
BEGIN:STANDARD
TZOFFSETFROM:-0400
TZOFFSETTO:-0500
TZNAME:EST
DTSTART:20251102T060000
END:STANDARD
BEGIN:DAYLIGHT
TZOFFSETFROM:-0500
TZOFFSETTO:-0400
TZNAME:EDT
DTSTART:20260308T070000
END:DAYLIGHT
BEGIN:STANDARD
TZOFFSETFROM:-0400
TZOFFSETTO:-0500
TZNAME:EST
DTSTART:20261101T060000
END:STANDARD
END:VTIMEZONE
BEGIN:VEVENT
DTSTART;TZID=America/New_York:20250902T100000
DTEND;TZID=America/New_York:20250902T110000
DTSTAMP:20260423T161507
CREATED:20250724T223354Z
LAST-MODIFIED:20251016T115302Z
UID:46882-1756807200-1756810800@www.piedmontmastergardeners.org
SUMMARY:Join Us Online: Learn How You Can Become an Extension Master Gardener
DESCRIPTION:Are you passionate about gardening? Would you enjoy sharing your passion with others? Then consider becoming an Extension Master Gardener. This online information session will tell you how to take part in the 2026 training class for Master Gardeners serving the Charlottesville and Albemarle County area. Don’t miss this opportunity to learn how you can deepen your expertise in gardening and share it with the community in fun and rewarding ways. \nRegister HERE to receive the Zoom link. \n 
URL:https://www.piedmontmastergardeners.org/event/join-us-online-learn-how-you-can-become-an-extension-master-gardener/
LOCATION:
ATTACH;FMTTYPE=image/jpeg:https://www.piedmontmastergardeners.org/wp-content/uploads/2025/07/2024_09_14_Partners_Bread-and-Roses_web.jpg
ORGANIZER;CN="Virginia Cooperative Extension":MAILTO:albemarlevcehelpdesk@gmail.com
END:VEVENT
BEGIN:VEVENT
DTSTART;TZID=America/New_York:20250908T130000
DTEND;TZID=America/New_York:20250908T140000
DTSTAMP:20260423T161507
CREATED:20250724T224511Z
LAST-MODIFIED:20251016T115051Z
UID:46900-1757336400-1757340000@www.piedmontmastergardeners.org
SUMMARY:Join Us: Learn How You Can Become an Extension Master Gardener
DESCRIPTION:Are you passionate about gardening? Would you enjoy sharing your passion with others? Then consider becoming an Extension Master Gardener. This information session at Gordon Avenue Library will tell you how to take part in the 2026 training class for Master Gardeners serving the Charlottesville and Albemarle County area. Don’t miss this opportunity to learn how you can deepen your expertise in gardening and share it with the community in fun and rewarding ways.
URL:https://www.piedmontmastergardeners.org/event/join-us-learn-how-you-can-become-an-extension-master-gardener/
LOCATION:Gordon Avenue Library\, 1500 Gordon Avenue\, Charlottesville\, VA\, 22903
ATTACH;FMTTYPE=image/jpeg:https://www.piedmontmastergardeners.org/wp-content/uploads/2025/07/2024_09_14_Partners_Bread-and-Roses_web.jpg
ORGANIZER;CN="Virginia Cooperative Extension":MAILTO:albemarlevcehelpdesk@gmail.com
END:VEVENT
BEGIN:VEVENT
DTSTART;TZID=America/New_York:20250910T133000
DTEND;TZID=America/New_York:20250910T143000
DTSTAMP:20260423T161507
CREATED:20250725T104542Z
LAST-MODIFIED:20251016T114940Z
UID:46932-1757511000-1757514600@www.piedmontmastergardeners.org
SUMMARY:Join Us: Learn How You Can Become an Extension Master Gardener
DESCRIPTION:Are you passionate about gardening? Would you enjoy sharing your passion with others? Then consider becoming an Extension Master Gardener. This in-person information session at the Scottsville Library\, 330 Bird Street\, will tell you how to take part in the 2026 training class for Master Gardeners serving the Charlottesville and Albemarle County area. Don’t miss this opportunity to learn how you can deepen your expertise in gardening and share it with the community in fun and rewarding ways.
URL:https://www.piedmontmastergardeners.org/event/join-us-learn-how-you-can-become-an-extension-master-gardener-2/
LOCATION:Scottsville Library\, 330 Bird Street\, Scottsville\, VA\, 24590
ATTACH;FMTTYPE=image/jpeg:https://www.piedmontmastergardeners.org/wp-content/uploads/2025/07/2024_09_14_Partners_Bread-and-Roses_web.jpg
ORGANIZER;CN="Virginia Cooperative Extension":MAILTO:albemarlevcehelpdesk@gmail.com
END:VEVENT
BEGIN:VEVENT
DTSTART;TZID=America/New_York:20250915T140000
DTEND;TZID=America/New_York:20250915T150000
DTSTAMP:20260423T161507
CREATED:20250725T111258Z
LAST-MODIFIED:20251016T114830Z
UID:46943-1757944800-1757948400@www.piedmontmastergardeners.org
SUMMARY:Join Us: Learn How You Can Become an Extension Master Gardener
DESCRIPTION:Are you passionate about gardening? Would you enjoy sharing your passion with others? Then consider becoming an Extension Master Gardener. This in-person information session at the Northside Library\, 705 Rio Road West\, will tell you how to take part in the 2026 training class for Master Gardeners serving the Charlottesville and Albemarle County area. Don’t miss this opportunity to learn how you can deepen your expertise in gardening and share it with the community in fun and rewarding ways. \n 
URL:https://www.piedmontmastergardeners.org/event/join-us-learn-how-you-can-become-an-extension-master-gardener-3/
LOCATION:Northside Library\, 705 Rio Road West\, Charlottesville\, VA\, 22901
ATTACH;FMTTYPE=image/jpeg:https://www.piedmontmastergardeners.org/wp-content/uploads/2025/07/2024_09_14_Partners_Bread-and-Roses_web.jpg
ORGANIZER;CN="Virginia Cooperative Extension":MAILTO:albemarlevcehelpdesk@gmail.com
END:VEVENT
END:VCALENDAR