BEGIN:VCALENDAR
VERSION:2.0
PRODID:-//Piedmont Master Gardeners - ECPv6.15.20//NONSGML v1.0//EN
CALSCALE:GREGORIAN
METHOD:PUBLISH
X-WR-CALNAME:Piedmont Master Gardeners
X-ORIGINAL-URL:https://www.piedmontmastergardeners.org
X-WR-CALDESC:Events for Piedmont Master Gardeners
REFRESH-INTERVAL;VALUE=DURATION:PT1H
X-Robots-Tag:noindex
X-PUBLISHED-TTL:PT1H
BEGIN:VTIMEZONE
TZID:America/New_York
BEGIN:DAYLIGHT
TZOFFSETFROM:-0500
TZOFFSETTO:-0400
TZNAME:EDT
DTSTART:20220313T070000
END:DAYLIGHT
BEGIN:STANDARD
TZOFFSETFROM:-0400
TZOFFSETTO:-0500
TZNAME:EST
DTSTART:20221106T060000
END:STANDARD
BEGIN:DAYLIGHT
TZOFFSETFROM:-0500
TZOFFSETTO:-0400
TZNAME:EDT
DTSTART:20230312T070000
END:DAYLIGHT
BEGIN:STANDARD
TZOFFSETFROM:-0400
TZOFFSETTO:-0500
TZNAME:EST
DTSTART:20231105T060000
END:STANDARD
BEGIN:DAYLIGHT
TZOFFSETFROM:-0500
TZOFFSETTO:-0400
TZNAME:EDT
DTSTART:20240310T070000
END:DAYLIGHT
BEGIN:STANDARD
TZOFFSETFROM:-0400
TZOFFSETTO:-0500
TZNAME:EST
DTSTART:20241103T060000
END:STANDARD
END:VTIMEZONE
BEGIN:VEVENT
DTSTART;TZID=America/New_York:20230506T100000
DTEND;TZID=America/New_York:20230506T140000
DTSTAMP:20260425T220634
CREATED:20230115T132724Z
LAST-MODIFIED:20230115T132724Z
UID:34274-1683367200-1683381600@www.piedmontmastergardeners.org
SUMMARY:The Piedmont Master Gardeners' 20th Annual Spring Plant Sale
DESCRIPTION:Join us for our 20th Annual Spring Plant and Green Elephant Sale. The sale offers something for all gardens:\n• plants for sun\, shade\, or something in between\n• annuals\, perennials\, native and pollinator plants\n• herbs\n• vegetables\n• houseplants\n• trees\n• shrubs\n• fruit\nNew this year: Native plant combination trays for sun and shade. \nClick here to see the wide array of other plants available. \nPlus\, you can drop off tools and knives to have them sharpened. \nCash\, credit cards\, and checks accepted. Sale happens rain or shine.* Wagons or carts are welcome to load up your plants. \nMaster Gardeners will offer demonstrations\, educational displays\, and a Horticultural Help Desk to answer your questions about problem plants\, insects and more. Plan to pick up a soil test kit. \nThe Plant Sale is the primary source of funding for the Piedmont Master Gardeners’ work in the Charlottesville-Albemarle area\, including our support for schoolyard gardens\, partnerships with community gardens\, native plant and pollinator demonstration gardens\, free and low-cost classes and lectures\, a monthly online newsletter\, onsite advice on healthy lawns and landscapes\, and gardening opportunities for people with special needs. \nShop with us and support our educational efforts in the community! \n* If extreme weather causes a change in schedule\, we will announce it on our Facebook page. 
URL:https://www.piedmontmastergardeners.org/event/the-piedmont-master-gardeners-20th-annual-spring-plant-sale/
ATTACH;FMTTYPE=image/jpeg:https://www.piedmontmastergardeners.org/wp-content/uploads/2023/01/2022_Plant-Sale_Web.jpg
END:VEVENT
BEGIN:VEVENT
DTSTART;TZID=America/New_York:20230506T100000
DTEND;TZID=America/New_York:20230506T140000
DTSTAMP:20260425T220634
CREATED:20230115T132724Z
LAST-MODIFIED:20230115T132724Z
UID:44417-1683367200-1683381600@www.piedmontmastergardeners.org
SUMMARY:The Piedmont Master Gardeners' 20th Annual Spring Plant Sale
DESCRIPTION:Join us for our 20th Annual Spring Plant and Green Elephant Sale. The sale offers something for all gardens:\n• plants for sun\, shade\, or something in between\n• annuals\, perennials\, native and pollinator plants\n• herbs\n• vegetables\n• houseplants\n• trees\n• shrubs\n• fruit\nNew this year: Native plant combination trays for sun and shade. \nClick here to see the wide array of other plants available. \nPlus\, you can drop off tools and knives to have them sharpened. \nCash\, credit cards\, and checks accepted. Sale happens rain or shine.* Wagons or carts are welcome to load up your plants. \nMaster Gardeners will offer demonstrations\, educational displays\, and a Horticultural Help Desk to answer your questions about problem plants\, insects and more. Plan to pick up a soil test kit. \nThe Plant Sale is the primary source of funding for the Piedmont Master Gardeners’ work in the Charlottesville-Albemarle area\, including our support for schoolyard gardens\, partnerships with community gardens\, native plant and pollinator demonstration gardens\, free and low-cost classes and lectures\, a monthly online newsletter\, onsite advice on healthy lawns and landscapes\, and gardening opportunities for people with special needs. \nShop with us and support our educational efforts in the community! \n* If extreme weather causes a change in schedule\, we will announce it on our Facebook page. 
URL:https://www.piedmontmastergardeners.org/event/the-piedmont-master-gardeners-20th-annual-spring-plant-sale-2/
ATTACH;FMTTYPE=image/jpeg:https://www.piedmontmastergardeners.org/wp-content/uploads/2023/01/2022_Plant-Sale_Web.jpg
END:VEVENT
BEGIN:VEVENT
DTSTART;TZID=America/New_York:20230415T140000
DTEND;TZID=America/New_York:20230415T160000
DTSTAMP:20260425T220634
CREATED:20230320T211620Z
LAST-MODIFIED:20230320T211620Z
UID:44425-1681567200-1681574400@www.piedmontmastergardeners.org
SUMMARY:Garden Basics: 'Planting Your Annual Garden'
DESCRIPTION:An annual garden adds beauty\, color\, texture\, and diversity into any yard\, and it’s easy on the pocketbook. Whether standing alone or supplementing a perennial garden\, it can be in sun or shade and can be adapted to fit into almost any spot\, large or small. This free Garden Basics class will cover how to choose a site\, create a design\, select the seeds\, prepare the soil\, and keep annuals attractive and healthy through the growing season. Garden Basics is a partnership with the Bread and Roses ministry at Trinity Church. The class will include a tour of the Bread and Roses annual beds.
URL:https://www.piedmontmastergardeners.org/event/garden-basics-planting-your-annual-garden-2/
CATEGORIES:Garden Basics
ATTACH;FMTTYPE=image/jpeg:https://www.piedmontmastergardeners.org/wp-content/uploads/2023/03/2023_GB_April_Annual-Bed_web.jpg
END:VEVENT
BEGIN:VEVENT
DTSTART;TZID=America/New_York:20230415T140000
DTEND;TZID=America/New_York:20230415T160000
DTSTAMP:20260425T220634
CREATED:20230320T211620Z
LAST-MODIFIED:20230320T211620Z
UID:36054-1681567200-1681574400@www.piedmontmastergardeners.org
SUMMARY:Garden Basics: 'Planting Your Annual Garden'
DESCRIPTION:An annual garden adds beauty\, color\, texture\, and diversity into any yard\, and it’s easy on the pocketbook. Whether standing alone or supplementing a perennial garden\, it can be in sun or shade and can be adapted to fit into almost any spot\, large or small. This free Garden Basics class will cover how to choose a site\, create a design\, select the seeds\, prepare the soil\, and keep annuals attractive and healthy through the growing season. Garden Basics is a partnership with the Bread and Roses ministry at Trinity Church. The class will include a tour of the Bread and Roses annual beds.
URL:https://www.piedmontmastergardeners.org/event/garden-basics-planting-your-annual-garden/
CATEGORIES:Garden Basics
ATTACH;FMTTYPE=image/jpeg:https://www.piedmontmastergardeners.org/wp-content/uploads/2023/03/2023_GB_April_Annual-Bed_web.jpg
END:VEVENT
BEGIN:VEVENT
DTSTART;TZID=America/New_York:20230404T183000
DTEND;TZID=America/New_York:20230404T193000
DTSTAMP:20260425T220634
CREATED:20230317T201933Z
LAST-MODIFIED:20230317T201933Z
UID:36030-1680633000-1680636600@www.piedmontmastergardeners.org
SUMMARY:PMG Speakers Bureau at The Center: "Don't Guess; Soil Test!"
DESCRIPTION:At 6:30 p.m. Tuesday\, April 4\, The Center at Belvedere will host “Don’t Guess; Soil Test\,” a free presentation by soil scientist and Piedmont Master Gardener Linda Blum. Without a soil analysis\, adding nutrients and other supplements to your yard or garden can result in overfertilization that harms plants and threatens local waterways\, even when organic fertilizers are used. Blum\, a faculty member in the University of Virginia’s Environmental Sciences Department\, will explain how to have your soil tested\, how to interpret the results\, and how to follow the recommendations for amending your soil. This program is open to all. The Center is at 540 Belvedere Blvd. in Charlottesville. To register\, visit https://thecentercville.org/calendar/event/82752. \n 
URL:https://www.piedmontmastergardeners.org/event/pmg-speakers-bureau-at-the-center-dont-guess-soil-test/
ATTACH;FMTTYPE=image/jpeg:https://www.piedmontmastergardeners.org/wp-content/uploads/2023/03/Soil-photo-for-April-4-talk-at-The-Center_3x5.jpg
END:VEVENT
BEGIN:VEVENT
DTSTART;TZID=America/New_York:20230404T183000
DTEND;TZID=America/New_York:20230404T193000
DTSTAMP:20260425T220634
CREATED:20230317T201933Z
LAST-MODIFIED:20230317T201933Z
UID:44424-1680633000-1680636600@www.piedmontmastergardeners.org
SUMMARY:PMG Speakers Bureau at The Center: "Don't Guess; Soil Test!"
DESCRIPTION:At 6:30 p.m. Tuesday\, April 4\, The Center at Belvedere will host “Don’t Guess; Soil Test\,” a free presentation by soil scientist and Piedmont Master Gardener Linda Blum. Without a soil analysis\, adding nutrients and other supplements to your yard or garden can result in overfertilization that harms plants and threatens local waterways\, even when organic fertilizers are used. Blum\, a faculty member in the University of Virginia’s Environmental Sciences Department\, will explain how to have your soil tested\, how to interpret the results\, and how to follow the recommendations for amending your soil. This program is open to all. The Center is at 540 Belvedere Blvd. in Charlottesville. To register\, visit https://thecentercville.org/calendar/event/82752. \n 
URL:https://www.piedmontmastergardeners.org/event/pmg-speakers-bureau-at-the-center-dont-guess-soil-test-2/
ATTACH;FMTTYPE=image/jpeg:https://www.piedmontmastergardeners.org/wp-content/uploads/2023/03/Soil-photo-for-April-4-talk-at-The-Center_3x5.jpg
END:VEVENT
BEGIN:VEVENT
DTSTART;TZID=America/New_York:20230330T190000
DTEND;TZID=America/New_York:20230330T201500
DTSTAMP:20260425T220634
CREATED:20230116T035635Z
LAST-MODIFIED:20230116T035635Z
UID:44421-1680202800-1680207300@www.piedmontmastergardeners.org
SUMMARY:Spring Lecture Series—Elisa Meara and Alex Thompson\, “Attractive\, Functional\, Sustainable Solutions to Managing Stormwater Runoff in the Home Yard and Garden”
DESCRIPTION:In this online presentation\, landscape designers Elisa Meara and Alex Thompson will show how smart planting and attractive rain gardens can reduce stormwater runoff and filter pollutants that threaten rivers and streams feeding the Chesapeake Bay. A graduate of London’s Inchbald School of Design\, Meara (above) hails from the Dominican Republic and is owner of the Native Plant Landscape Design Corp. in Falls Church. Thompson is a principal designer for the firm. She grew up in the English countryside and holds a master’s degree in landscape design from The George Washington University.
URL:https://www.piedmontmastergardeners.org/event/spring-lecture-series-elisa-meara-and-alex-thompson-attractive-functional-sustainable-solutions-to-managing-stormwater-runoff-in-the-home-yard-and-garden-2/
CATEGORIES:Spring Lecture Series
ATTACH;FMTTYPE=image/png:https://www.piedmontmastergardeners.org/wp-content/uploads/2023/01/3-30-2023SLS.png
LOCATION:https://www.piedmontmastergardeners.org/event/spring-lecture-series-elisa-meara-and-alex-thompson-attractive-functional-sustainable-solutions-to-managing-stormwater-runoff-in-the-home-yard-and-garden-2/
END:VEVENT
BEGIN:VEVENT
DTSTART;TZID=America/New_York:20230330T190000
DTEND;TZID=America/New_York:20230330T201500
DTSTAMP:20260425T220634
CREATED:20230116T035635Z
LAST-MODIFIED:20230116T035635Z
UID:34295-1680202800-1680207300@www.piedmontmastergardeners.org
SUMMARY:Spring Lecture Series—Elisa Meara and Alex Thompson\, “Attractive\, Functional\, Sustainable Solutions to Managing Stormwater Runoff in the Home Yard and Garden”
DESCRIPTION:In this online presentation\, landscape designers Elisa Meara and Alex Thompson will show how smart planting and attractive rain gardens can reduce stormwater runoff and filter pollutants that threaten rivers and streams feeding the Chesapeake Bay. A graduate of London’s Inchbald School of Design\, Meara (above) hails from the Dominican Republic and is owner of the Native Plant Landscape Design Corp. in Falls Church. Thompson is a principal designer for the firm. She grew up in the English countryside and holds a master’s degree in landscape design from The George Washington University.
URL:https://www.piedmontmastergardeners.org/event/spring-lecture-series-elisa-meara-and-alex-thompson-attractive-functional-sustainable-solutions-to-managing-stormwater-runoff-in-the-home-yard-and-garden/
CATEGORIES:Spring Lecture Series
ATTACH;FMTTYPE=image/png:https://www.piedmontmastergardeners.org/wp-content/uploads/2023/01/3-30-2023SLS.png
LOCATION:https://www.piedmontmastergardeners.org/event/spring-lecture-series-elisa-meara-and-alex-thompson-attractive-functional-sustainable-solutions-to-managing-stormwater-runoff-in-the-home-yard-and-garden/
END:VEVENT
BEGIN:VEVENT
DTSTART;TZID=America/New_York:20230325T140000
DTEND;TZID=America/New_York:20230325T160000
DTSTAMP:20260425T220634
CREATED:20230217T185338Z
LAST-MODIFIED:20230217T185338Z
UID:44422-1679752800-1679760000@www.piedmontmastergardeners.org
SUMMARY:Garden Basics: Spring Cleanup in the Perennial Garden (CLASS IS FULL)
DESCRIPTION:Waiting until spring to clean up your perennial garden allows plants to overwinter for structural interest\, protection for insects\, and food sources for birds. Join us for an outdoor Garden Basics class at PMG’s demonstration garden at Sentara Martha Jefferson Hospital. (Look for the welcome table at the Outpatient Care Center parking area\, 595 Martha Jefferson Drive.) You will learn:\n• The native plants in the demonstration garden\n• The importance of cleanup in the spring rather than the fall\n• How to divide plants in the spring.\nParticipants will have a hands-on activity and will take home a native plant for their own gardens. \nSpace is limited. See below to register and reserve a place in the class. Garden Basics is a partnership with the Bread and Roses ministry at Trinity Episcopal Church.
URL:https://www.piedmontmastergardeners.org/event/garden-basics-spring-cleanup-in-the-perennial-garden-2/
CATEGORIES:Garden Basics
ATTACH;FMTTYPE=image/jpeg:https://www.piedmontmastergardeners.org/wp-content/uploads/2023/02/2023_GB_March_SMJ-Garden_web.jpg
END:VEVENT
BEGIN:VEVENT
DTSTART;TZID=America/New_York:20230325T140000
DTEND;TZID=America/New_York:20230325T160000
DTSTAMP:20260425T220634
CREATED:20230217T185338Z
LAST-MODIFIED:20230217T185338Z
UID:35213-1679752800-1679760000@www.piedmontmastergardeners.org
SUMMARY:Garden Basics: Spring Cleanup in the Perennial Garden (CLASS IS FULL)
DESCRIPTION:Waiting until spring to clean up your perennial garden allows plants to overwinter for structural interest\, protection for insects\, and food sources for birds. Join us for an outdoor Garden Basics class at PMG’s demonstration garden at Sentara Martha Jefferson Hospital. (Look for the welcome table at the Outpatient Care Center parking area\, 595 Martha Jefferson Drive.) You will learn:\n• The native plants in the demonstration garden\n• The importance of cleanup in the spring rather than the fall\n• How to divide plants in the spring.\nParticipants will have a hands-on activity and will take home a native plant for their own gardens. \nSpace is limited. See below to register and reserve a place in the class. Garden Basics is a partnership with the Bread and Roses ministry at Trinity Episcopal Church.
URL:https://www.piedmontmastergardeners.org/event/garden-basics-spring-cleanup-in-the-perennial-garden/
CATEGORIES:Garden Basics
ATTACH;FMTTYPE=image/jpeg:https://www.piedmontmastergardeners.org/wp-content/uploads/2023/02/2023_GB_March_SMJ-Garden_web.jpg
END:VEVENT
BEGIN:VEVENT
DTSTART;TZID=America/New_York:20230325T140000
DTEND;TZID=America/New_York:20230325T150000
DTSTAMP:20260425T220634
CREATED:20230223T164135Z
LAST-MODIFIED:20230223T164135Z
UID:35409-1679752800-1679756400@www.piedmontmastergardeners.org
SUMMARY:Virginia Festival of the Book: Poet\, Essayist and Gardener Ross Gay
DESCRIPTION:The Piedmont Master Gardeners are co-sponsoring an appearance by poet\, essayist and passionate gardener Ross Gay at this year’s Virginia Festival of the Book. The Same Page Community Read event is scheduled for 2 p.m. Saturday\, March 25\, at the Jefferson School African American Heritage Center. We are partnering with the Friends of JMRL\, which selected his essay collection The Book of Delights (a New York Times best-seller) for the 2023 Same Page Community Read program. He will also read from his latest book of essays\, Inciting Joy. As critics observe\, this award-winning writer “celebrates the beauty of the natural world–his garden\, the flowers peeking out of the sidewalk\, the hypnotic movements of a praying mantis.”
URL:https://www.piedmontmastergardeners.org/event/virginia-festival-of-the-book-poet-essayist-and-gardener-ross-gay/
ATTACH;FMTTYPE=image/jpeg:https://www.piedmontmastergardeners.org/wp-content/uploads/2023/02/Ross-Gay-event-image-1-e1677273592858.jpg
END:VEVENT
BEGIN:VEVENT
DTSTART;TZID=America/New_York:20230325T140000
DTEND;TZID=America/New_York:20230325T150000
DTSTAMP:20260425T220634
CREATED:20230223T164135Z
LAST-MODIFIED:20230223T164135Z
UID:44423-1679752800-1679756400@www.piedmontmastergardeners.org
SUMMARY:Virginia Festival of the Book: Poet\, Essayist and Gardener Ross Gay
DESCRIPTION:The Piedmont Master Gardeners are co-sponsoring an appearance by poet\, essayist and passionate gardener Ross Gay at this year’s Virginia Festival of the Book. The Same Page Community Read event is scheduled for 2 p.m. Saturday\, March 25\, at the Jefferson School African American Heritage Center. We are partnering with the Friends of JMRL\, which selected his essay collection The Book of Delights (a New York Times best-seller) for the 2023 Same Page Community Read program. He will also read from his latest book of essays\, Inciting Joy. As critics observe\, this award-winning writer “celebrates the beauty of the natural world–his garden\, the flowers peeking out of the sidewalk\, the hypnotic movements of a praying mantis.”
URL:https://www.piedmontmastergardeners.org/event/virginia-festival-of-the-book-poet-essayist-and-gardener-ross-gay-2/
ATTACH;FMTTYPE=image/jpeg:https://www.piedmontmastergardeners.org/wp-content/uploads/2023/02/Ross-Gay-event-image-1-e1677273592858.jpg
END:VEVENT
BEGIN:VEVENT
DTSTART;TZID=America/New_York:20230316T190000
DTEND;TZID=America/New_York:20230316T201500
DTSTAMP:20260425T220634
CREATED:20230116T033147Z
LAST-MODIFIED:20230116T033147Z
UID:44420-1678993200-1678997700@www.piedmontmastergardeners.org
SUMMARY:Spring Lecture Series—Kim Eierman\, “Designing a Pollinator Victory Garden for a Changing Climate”
DESCRIPTION:Kim Eierman\, an ecological landscape designer specializing in native plants\, will cover the dramatic decline of pollinators due to factors that include climate change and will offer simple strategies gardeners can use to support bees and an array of other pollinator species. Based in Westchester County\, New York\, Eierman is author of The Pollinator Victory Garden: Win the War on Pollinator Decline with Ecological Gardening. She teaches at the New York Botanical Garden and the Brooklyn Botanic Garden\, among other places.
URL:https://www.piedmontmastergardeners.org/event/spring-lecture-series-kim-eierman-designing-a-pollinator-victory-garden-for-a-changing-climate-2/
CATEGORIES:Spring Lecture Series
ATTACH;FMTTYPE=image/jpeg:https://www.piedmontmastergardeners.org/wp-content/uploads/2023/01/March-16-Eierman.jpg
LOCATION:https://www.piedmontmastergardeners.org/event/spring-lecture-series-kim-eierman-designing-a-pollinator-victory-garden-for-a-changing-climate-2/
END:VEVENT
BEGIN:VEVENT
DTSTART;TZID=America/New_York:20230316T190000
DTEND;TZID=America/New_York:20230316T201500
DTSTAMP:20260425T220634
CREATED:20230116T033147Z
LAST-MODIFIED:20230116T033147Z
UID:34291-1678993200-1678997700@www.piedmontmastergardeners.org
SUMMARY:Spring Lecture Series—Kim Eierman\, “Designing a Pollinator Victory Garden for a Changing Climate”
DESCRIPTION:Kim Eierman\, an ecological landscape designer specializing in native plants\, will cover the dramatic decline of pollinators due to factors that include climate change and will offer simple strategies gardeners can use to support bees and an array of other pollinator species. Based in Westchester County\, New York\, Eierman is author of The Pollinator Victory Garden: Win the War on Pollinator Decline with Ecological Gardening. She teaches at the New York Botanical Garden and the Brooklyn Botanic Garden\, among other places.
URL:https://www.piedmontmastergardeners.org/event/spring-lecture-series-kim-eierman-designing-a-pollinator-victory-garden-for-a-changing-climate/
CATEGORIES:Spring Lecture Series
ATTACH;FMTTYPE=image/jpeg:https://www.piedmontmastergardeners.org/wp-content/uploads/2023/01/March-16-Eierman.jpg
LOCATION:https://www.piedmontmastergardeners.org/event/spring-lecture-series-kim-eierman-designing-a-pollinator-victory-garden-for-a-changing-climate/
END:VEVENT
BEGIN:VEVENT
DTSTART;TZID=America/New_York:20230309T190000
DTEND;TZID=America/New_York:20230309T201500
DTSTAMP:20260425T220634
CREATED:20230116T032400Z
LAST-MODIFIED:20230116T032400Z
UID:34287-1678388400-1678392900@www.piedmontmastergardeners.org
SUMMARY:Spring Lecture Series—Bob Schamerhorn\, “Attracting Birds and Other Wildlife to Your Garden with Easy-to-Create Water Features”
DESCRIPTION:Bob Schamerhorn’s online multimedia presentation will demonstrate water’s powerful attraction to birds and other wildlife in every season and will suggest ways to enhance our enjoyment of nature by bringing water into our backyards. Based in Richmond\, Schamerhorn is an award-winning nature photographer and a lifelong bird and nature enthusiast. His work has appeared in numerous exhibitions and publications\, including Virginia Wildlife and Audubon\, the National Audubon Society’s magazine.
URL:https://www.piedmontmastergardeners.org/event/spring-lecture-series-bob-schamerhorn-attracting-birds-and-other-wildlife-to-your-garden-with-easy-to-create-water-features/
CATEGORIES:Spring Lecture Series
ATTACH;FMTTYPE=image/jpeg:https://www.piedmontmastergardeners.org/wp-content/uploads/2023/01/March-9-Schamerhorn.jpg
LOCATION:https://www.piedmontmastergardeners.org/event/spring-lecture-series-bob-schamerhorn-attracting-birds-and-other-wildlife-to-your-garden-with-easy-to-create-water-features/
END:VEVENT
BEGIN:VEVENT
DTSTART;TZID=America/New_York:20230309T190000
DTEND;TZID=America/New_York:20230309T201500
DTSTAMP:20260425T220634
CREATED:20230116T032400Z
LAST-MODIFIED:20230116T032400Z
UID:44419-1678388400-1678392900@www.piedmontmastergardeners.org
SUMMARY:Spring Lecture Series—Bob Schamerhorn\, “Attracting Birds and Other Wildlife to Your Garden with Easy-to-Create Water Features”
DESCRIPTION:Bob Schamerhorn’s online multimedia presentation will demonstrate water’s powerful attraction to birds and other wildlife in every season and will suggest ways to enhance our enjoyment of nature by bringing water into our backyards. Based in Richmond\, Schamerhorn is an award-winning nature photographer and a lifelong bird and nature enthusiast. His work has appeared in numerous exhibitions and publications\, including Virginia Wildlife and Audubon\, the National Audubon Society’s magazine.
URL:https://www.piedmontmastergardeners.org/event/spring-lecture-series-bob-schamerhorn-attracting-birds-and-other-wildlife-to-your-garden-with-easy-to-create-water-features-2/
CATEGORIES:Spring Lecture Series
ATTACH;FMTTYPE=image/jpeg:https://www.piedmontmastergardeners.org/wp-content/uploads/2023/01/March-9-Schamerhorn.jpg
LOCATION:https://www.piedmontmastergardeners.org/event/spring-lecture-series-bob-schamerhorn-attracting-birds-and-other-wildlife-to-your-garden-with-easy-to-create-water-features-2/
END:VEVENT
BEGIN:VEVENT
DTSTART;TZID=America/New_York:20230302T190000
DTEND;TZID=America/New_York:20230302T201500
DTSTAMP:20260425T220634
CREATED:20230116T030448Z
LAST-MODIFIED:20230116T030448Z
UID:34280-1677783600-1677788100@www.piedmontmastergardeners.org
SUMMARY:Spring Lecture Series—Michael Carter Jr.\, "Africulture and Unique Organic Vegetables You’ll Want in Your Home Garden"
DESCRIPTION:In this online presentation\, Michael Carter Jr. will highlight the many contributions the African continent and people of African descent have made to farming and food traditions in the United States. He will also introduce some of the unique plants he grows organically at his family’s certified Virginia Century Farm in Orange County. Carter is the fifth generation of his family to farm this property and is managing director of Carter Farms and Africulture\, a nonprofit focused on educating the public about the principles\, practices\, plants\, and people of African descent that have contributed to U.S. agriculture.
URL:https://www.piedmontmastergardeners.org/event/spring-lecture-series-michael-carter-jr-africulture-and-unique-organic-vegetables-youll-want-in-your-home-garden/
CATEGORIES:Spring Lecture Series
ATTACH;FMTTYPE=image/jpeg:https://www.piedmontmastergardeners.org/wp-content/uploads/2023/01/March-2-Carter.jpg
LOCATION:https://www.piedmontmastergardeners.org/event/spring-lecture-series-michael-carter-jr-africulture-and-unique-organic-vegetables-youll-want-in-your-home-garden/
END:VEVENT
BEGIN:VEVENT
DTSTART;TZID=America/New_York:20230302T190000
DTEND;TZID=America/New_York:20230302T201500
DTSTAMP:20260425T220634
CREATED:20230116T030448Z
LAST-MODIFIED:20230116T030448Z
UID:44418-1677783600-1677788100@www.piedmontmastergardeners.org
SUMMARY:Spring Lecture Series—Michael Carter Jr.\, "Africulture and Unique Organic Vegetables You’ll Want in Your Home Garden"
DESCRIPTION:In this online presentation\, Michael Carter Jr. will highlight the many contributions the African continent and people of African descent have made to farming and food traditions in the United States. He will also introduce some of the unique plants he grows organically at his family’s certified Virginia Century Farm in Orange County. Carter is the fifth generation of his family to farm this property and is managing director of Carter Farms and Africulture\, a nonprofit focused on educating the public about the principles\, practices\, plants\, and people of African descent that have contributed to U.S. agriculture.
URL:https://www.piedmontmastergardeners.org/event/spring-lecture-series-michael-carter-jr-africulture-and-unique-organic-vegetables-youll-want-in-your-home-garden-2/
CATEGORIES:Spring Lecture Series
ATTACH;FMTTYPE=image/jpeg:https://www.piedmontmastergardeners.org/wp-content/uploads/2023/01/March-2-Carter.jpg
LOCATION:https://www.piedmontmastergardeners.org/event/spring-lecture-series-michael-carter-jr-africulture-and-unique-organic-vegetables-youll-want-in-your-home-garden-2/
END:VEVENT
BEGIN:VEVENT
DTSTART;TZID=America/New_York:20230218T140000
DTEND;TZID=America/New_York:20230218T160000
DTSTAMP:20260425T220634
CREATED:20221228T192840Z
LAST-MODIFIED:20221228T192840Z
UID:44416-1676728800-1676736000@www.piedmontmastergardeners.org
SUMMARY:Garden Basics: Tools for Gardening Smarter\, Not Harder
DESCRIPTION:The Piedmont Master Gardeners will offer a primer on easy-to-find as well as odd\, little-known\, but handy tools for tending the yard and garden—from socks and gloves to clippers and tree-extraction tools. This free Garden Basics session will cover:\n• caring for your tools;\n• where to buy them; and\n• how\, when\, and where to use them properly.\nSpace is limited. See below to register and reserve a place in the class. Garden Basics is a partnership with the Bread and Roses ministry at Trinity Episcopal Church.
URL:https://www.piedmontmastergardeners.org/event/garden-basics-tools-for-gardening-smarter-not-harder-2/
CATEGORIES:Garden Basics
ATTACH;FMTTYPE=image/jpeg:https://www.piedmontmastergardeners.org/wp-content/uploads/2022/12/2023_February_Tools_Garden-Basics.jpg
END:VEVENT
BEGIN:VEVENT
DTSTART;TZID=America/New_York:20230218T140000
DTEND;TZID=America/New_York:20230218T160000
DTSTAMP:20260425T220634
CREATED:20221228T192840Z
LAST-MODIFIED:20221228T192840Z
UID:34058-1676728800-1676736000@www.piedmontmastergardeners.org
SUMMARY:Garden Basics: Tools for Gardening Smarter\, Not Harder
DESCRIPTION:The Piedmont Master Gardeners will offer a primer on easy-to-find as well as odd\, little-known\, but handy tools for tending the yard and garden—from socks and gloves to clippers and tree-extraction tools. This free Garden Basics session will cover:\n• caring for your tools;\n• where to buy them; and\n• how\, when\, and where to use them properly.\nSpace is limited. See below to register and reserve a place in the class. Garden Basics is a partnership with the Bread and Roses ministry at Trinity Episcopal Church.
URL:https://www.piedmontmastergardeners.org/event/garden-basics-tools-for-gardening-smarter-not-harder/
CATEGORIES:Garden Basics
ATTACH;FMTTYPE=image/jpeg:https://www.piedmontmastergardeners.org/wp-content/uploads/2022/12/2023_February_Tools_Garden-Basics.jpg
END:VEVENT
END:VCALENDAR