BEGIN:VCALENDAR
VERSION:2.0
PRODID:-//Piedmont Master Gardeners - ECPv6.15.20//NONSGML v1.0//EN
CALSCALE:GREGORIAN
METHOD:PUBLISH
X-WR-CALNAME:Piedmont Master Gardeners
X-ORIGINAL-URL:https://www.piedmontmastergardeners.org
X-WR-CALDESC:Events for Piedmont Master Gardeners
REFRESH-INTERVAL;VALUE=DURATION:PT1H
X-Robots-Tag:noindex
X-PUBLISHED-TTL:PT1H
BEGIN:VTIMEZONE
TZID:America/New_York
BEGIN:DAYLIGHT
TZOFFSETFROM:-0500
TZOFFSETTO:-0400
TZNAME:EDT
DTSTART:20250309T070000
END:DAYLIGHT
BEGIN:STANDARD
TZOFFSETFROM:-0400
TZOFFSETTO:-0500
TZNAME:EST
DTSTART:20251102T060000
END:STANDARD
BEGIN:DAYLIGHT
TZOFFSETFROM:-0500
TZOFFSETTO:-0400
TZNAME:EDT
DTSTART:20260308T070000
END:DAYLIGHT
BEGIN:STANDARD
TZOFFSETFROM:-0400
TZOFFSETTO:-0500
TZNAME:EST
DTSTART:20261101T060000
END:STANDARD
BEGIN:DAYLIGHT
TZOFFSETFROM:-0500
TZOFFSETTO:-0400
TZNAME:EDT
DTSTART:20270314T070000
END:DAYLIGHT
BEGIN:STANDARD
TZOFFSETFROM:-0400
TZOFFSETTO:-0500
TZNAME:EST
DTSTART:20271107T060000
END:STANDARD
END:VTIMEZONE
BEGIN:VEVENT
DTSTART;TZID=America/New_York:20260307T100000
DTEND;TZID=America/New_York:20260307T110000
DTSTAMP:20260421T033055
CREATED:20260209T203217Z
LAST-MODIFIED:20260209T203217Z
UID:50340-1772877600-1772881200@www.piedmontmastergardeners.org
SUMMARY:Turn Your Garbage to Gold: Our Next Outdoor Workshop on Composting
DESCRIPTION:The next in our series of free outdoor workshops on composting will be held at the compost demonstration site in the Bread & Roses Gardens at Trinity Episcopal Church. We will showcase a range of techniques for turning household waste such as food scraps\, yard trimmings\, uncoated paper\, cardboard\, and sawdust into the ideal soil amendment for the yard and garden. We will also show how all households\, large and small\, can keep compostable waste out of landfills. When added to a landfill\, food scraps decompose anaerobically (without oxygen) and release methane\, a potent greenhouse gas that contributes to global climate change. When composted\, food scraps contribute to healthy soil and plants and to cleaner water and air. \nRegister below to reserve your place in the class. Registration closes at 5 p.m. March 6 or when the class is full.
URL:https://www.piedmontmastergardeners.org/event/turn-your-garbage-to-gold-our-next-outdoor-workshop-on-composting/
LOCATION:Trinity Episcopal Church\, 1118 Preston Avenue\, Charlottesville\, VA\, United States
CATEGORIES:Composting Workshop
ATTACH;FMTTYPE=image/jpeg:https://www.piedmontmastergardeners.org/wp-content/uploads/2025/06/compost.jpg
ORGANIZER;CN="Piedmont Master Gardeners":MAILTO:info@piedmontmastergardeners.org
END:VEVENT
END:VCALENDAR